BEGIN:VCALENDAR
VERSION:2.0
PRODID:-//Circolo Tennis Junior Osimo - ECPv4.6.13//NONSGML v1.0//EN
CALSCALE:GREGORIAN
METHOD:PUBLISH
X-WR-CALNAME:Circolo Tennis Junior Osimo
X-ORIGINAL-URL:http://www.juniortennisosimo.it
X-WR-CALDESC:Events for Circolo Tennis Junior Osimo
BEGIN:VEVENT
DTSTART;VALUE=DATE:20160825
DTEND;VALUE=DATE:20160905
DTSTAMP:20260421T125941
CREATED:20160612T125733Z
LAST-MODIFIED:20160822T164821Z
UID:1714-1472083200-1473033599@www.juniortennisosimo.it
SUMMARY:28° Memorial Gino Buglioni - 3/4 Cat. M/F
DESCRIPTION:
URL:http://www.juniortennisosimo.it/event/memorial-gino-buglioni-34-cat-mf/
LOCATION:Via Vescovara 3\, Osimo\, Italia
CATEGORIES:Tornei
ATTACH;FMTTYPE=image/jpeg:http://www.juniortennisosimo.it/wp-content/uploads/2016/08/20160817_115435.jpg
ORGANIZER;CN="Junior%20Tennis%20Osimo":MAILTO:info@juniortennisosimo.it
END:VEVENT
END:VCALENDAR